Package: biobtreeR Version: 1.18.0 Command: /home/biocbuild/bbs-3.20-bioc/R/bin/R CMD build --keep-empty-dirs --no-resave-data --md5 biobtreeR StartedAt: 2025-02-03 16:31:58 -0500 (Mon, 03 Feb 2025) EndedAt: 2025-02-03 16:32:51 -0500 (Mon, 03 Feb 2025) EllapsedTime: 53.0 seconds RetCode: 0 Status: OK PackageFile: biobtreeR_1.18.0.tar.gz PackageFileSize: 939.4 KiB