Package: biobtreeR Version: 1.18.0 Command: F:\biocbuild\bbs-3.20-bioc\R\bin\R.exe CMD check --no-multiarch --install=check:biobtreeR.install-out.txt --library=F:\biocbuild\bbs-3.20-bioc\R\library --no-vignettes --timings biobtreeR_1.18.0.tar.gz StartedAt: 2025-02-03 23:30:30 -0500 (Mon, 03 Feb 2025) EndedAt: 2025-02-03 23:31:20 -0500 (Mon, 03 Feb 2025) EllapsedTime: 50.0 seconds RetCode: 0 Status: OK CheckDir: biobtreeR.Rcheck Warnings: 0