Package: biobtreeR Version: 1.18.0 Command: /home/biocbuild/R/R/bin/R CMD build --keep-empty-dirs --no-resave-data biobtreeR StartedAt: 2025-02-03 21:59:52 -0000 (Mon, 03 Feb 2025) EndedAt: 2025-02-03 22:03:16 -0000 (Mon, 03 Feb 2025) EllapsedTime: 204.1 seconds RetCode: 1 Status: ERROR PackageFile: None PackageFileSize: NA