Package: biobtreeR Version: 1.18.0 Command: /home/biocbuild/R/R/bin/R CMD INSTALL biobtreeR StartedAt: 2025-02-03 20:28:00 -0000 (Mon, 03 Feb 2025) EndedAt: 2025-02-03 20:28:37 -0000 (Mon, 03 Feb 2025) EllapsedTime: 37.1 seconds RetCode: 0 Status: OK