Package: biocGraph Version: 1.68.0 Command: rm -rf biocGraph.buildbin-libdir && mkdir biocGraph.buildbin-libdir && /Users/biocbuild/BBS/utils/build-universal.sh biocGraph_1.68.0.tar.gz /Library/Frameworks/R.framework/Resources/bin/R biocGraph.buildbin-libdir StartedAt: 2025-02-05 14:58:27 -0500 (Wed, 05 Feb 2025) EndedAt: 2025-02-05 14:58:45 -0500 (Wed, 05 Feb 2025) EllapsedTime: 18.4 seconds RetCode: 0 Status: OK PackageFile: biocGraph_1.68.0.tgz PackageFileSize: 721.4 KiB