Package: biocGraph Version: 1.68.0 Command: /Library/Frameworks/R.framework/Resources/bin/R CMD build --keep-empty-dirs --no-resave-data biocGraph StartedAt: 2025-02-03 19:28:27 -0500 (Mon, 03 Feb 2025) EndedAt: 2025-02-03 19:29:05 -0500 (Mon, 03 Feb 2025) EllapsedTime: 37.8 seconds RetCode: 0 Status: OK PackageFile: biocGraph_1.68.0.tar.gz PackageFileSize: 730.7 KiB