Package: biocGraph Version: 1.68.0 Command: /Library/Frameworks/R.framework/Resources/bin/R CMD INSTALL biocGraph StartedAt: 2024-11-19 15:24:13 -0500 (Tue, 19 Nov 2024) EndedAt: 2024-11-19 15:24:33 -0500 (Tue, 19 Nov 2024) EllapsedTime: 19.8 seconds RetCode: 0 Status: OK