Package: biocGraph Version: 1.68.0 Command: chmod a+r biocGraph -R && F:\biocbuild\bbs-3.20-bioc\R\bin\R.exe CMD build --keep-empty-dirs --no-resave-data biocGraph StartedAt: 2025-02-03 17:45:09 -0500 (Mon, 03 Feb 2025) EndedAt: 2025-02-03 17:45:53 -0500 (Mon, 03 Feb 2025) EllapsedTime: 43.7 seconds RetCode: 0 Status: OK PackageFile: biocGraph_1.68.0.tar.gz PackageFileSize: 448.8 KiB