Package: biocGraph Version: 1.68.0 Command: F:\biocbuild\bbs-3.20-bioc\R\bin\R.exe CMD INSTALL biocGraph StartedAt: 2025-02-03 16:05:03 -0500 (Mon, 03 Feb 2025) EndedAt: 2025-02-03 16:05:20 -0500 (Mon, 03 Feb 2025) EllapsedTime: 16.9 seconds RetCode: 0 Status: OK