Package: biocGraph Version: 1.68.0 Command: /home/biocbuild/R/R/bin/R CMD INSTALL biocGraph StartedAt: 2025-02-03 20:46:19 -0000 (Mon, 03 Feb 2025) EndedAt: 2025-02-03 20:46:36 -0000 (Mon, 03 Feb 2025) EllapsedTime: 17.1 seconds RetCode: 0 Status: OK