Package: biocroxytest
Version: 1.2.0
Command: /home/biocbuild/R/R/bin/R CMD check --install=check:biocroxytest.install-out.txt --library=/home/biocbuild/R/R/site-library --no-vignettes --timings biocroxytest_1.2.0.tar.gz
StartedAt: 2024-11-20 05:34:13 -0000 (Wed, 20 Nov 2024)
EndedAt: 2024-11-20 05:35:52 -0000 (Wed, 20 Nov 2024)
EllapsedTime: 98.2 seconds
RetCode: 0
Status: OK
CheckDir: biocroxytest.Rcheck
Warnings: 0