Package: biocroxytest
Version: 1.2.0
Command: /Library/Frameworks/R.framework/Resources/bin/R CMD check --install=check:biocroxytest.install-out.txt --library=/Library/Frameworks/R.framework/Resources/library --no-vignettes --timings biocroxytest_1.2.0.tar.gz
StartedAt: 2024-11-19 19:53:17 -0500 (Tue, 19 Nov 2024)
EndedAt: 2024-11-19 19:59:47 -0500 (Tue, 19 Nov 2024)
EllapsedTime: 389.6 seconds
RetCode: 0
Status: OK
CheckDir: biocroxytest.Rcheck
Warnings: 0