Package: biocroxytest Version: 1.2.0 Command: /Library/Frameworks/R.framework/Resources/bin/R CMD check --install=check:biocroxytest.install-out.txt --library=/Library/Frameworks/R.framework/Resources/library --no-vignettes --timings biocroxytest_1.2.0.tar.gz StartedAt: 2025-02-04 00:18:46 -0500 (Tue, 04 Feb 2025) EndedAt: 2025-02-04 00:19:46 -0500 (Tue, 04 Feb 2025) EllapsedTime: 59.5 seconds RetCode: 0 Status: OK CheckDir: biocroxytest.Rcheck Warnings: 0