Package: biocroxytest Version: 1.2.0 Command: /home/biocbuild/R/R/bin/R CMD check --install=check:biocroxytest.install-out.txt --library=/home/biocbuild/R/R/site-library --no-vignettes --timings biocroxytest_1.2.0.tar.gz StartedAt: 2025-02-18 04:32:07 -0000 (Tue, 18 Feb 2025) EndedAt: 2025-02-18 04:32:39 -0000 (Tue, 18 Feb 2025) EllapsedTime: 32.1 seconds RetCode: 0 Status: OK CheckDir: biocroxytest.Rcheck Warnings: 0