Package: biocroxytest
Version: 1.2.0
Command: /home/biocbuild/bbs-3.20-bioc/R/bin/R CMD build --keep-empty-dirs --no-resave-data biocroxytest
StartedAt: 2024-11-19 17:45:37 -0500 (Tue, 19 Nov 2024)
EndedAt: 2024-11-19 17:45:42 -0500 (Tue, 19 Nov 2024)
EllapsedTime: 5.0 seconds
RetCode: 0
Status: OK
PackageFile: biocroxytest_1.2.0.tar.gz
PackageFileSize: 2.493 <A href="http://en.wikipedia.org/wiki/MiB" target="_blank">MiB</A>