Package: biocthis Version: 1.16.0 Command: /Library/Frameworks/R.framework/Resources/bin/R CMD INSTALL biocthis StartedAt: 2025-01-30 15:49:38 -0500 (Thu, 30 Jan 2025) EndedAt: 2025-01-30 15:49:55 -0500 (Thu, 30 Jan 2025) EllapsedTime: 16.8 seconds RetCode: 0 Status: OK