Package: biocthis Version: 1.16.0 Command: /home/biocbuild/R/R/bin/R CMD INSTALL biocthis StartedAt: 2025-01-30 20:34:10 -0000 (Thu, 30 Jan 2025) EndedAt: 2025-01-30 20:34:14 -0000 (Thu, 30 Jan 2025) EllapsedTime: 4.6 seconds RetCode: 0 Status: OK