Package: biodb Version: 1.14.0 Command: /Library/Frameworks/R.framework/Resources/bin/R CMD build --keep-empty-dirs --no-resave-data biodb StartedAt: 2025-02-03 19:34:12 -0500 (Mon, 03 Feb 2025) EndedAt: 2025-02-03 19:35:51 -0500 (Mon, 03 Feb 2025) EllapsedTime: 99.2 seconds RetCode: 0 Status: OK PackageFile: biodb_1.14.0.tar.gz PackageFileSize: 1.809 MiB