Package: biodb Version: 1.14.0 Command: /Library/Frameworks/R.framework/Resources/bin/R CMD INSTALL biodb StartedAt: 2025-02-03 17:01:09 -0500 (Mon, 03 Feb 2025) EndedAt: 2025-02-03 17:02:08 -0500 (Mon, 03 Feb 2025) EllapsedTime: 59.2 seconds RetCode: 0 Status: OK