Package: biodb Version: 1.14.0 Command: /home/biocbuild/bbs-3.20-bioc/R/bin/R CMD check --install=check:biodb.install-out.txt --library=/home/biocbuild/bbs-3.20-bioc/R/site-library --timings biodb_1.14.0.tar.gz StartedAt: 2025-02-17 20:12:55 -0500 (Mon, 17 Feb 2025) EndedAt: 2025-02-17 20:16:37 -0500 (Mon, 17 Feb 2025) EllapsedTime: 221.2 seconds RetCode: 0 Status: WARNINGS CheckDir: biodb.Rcheck Warnings: 1