Package: biodb Version: 1.14.0 Command: rm -rf biodb.buildbin-libdir && mkdir biodb.buildbin-libdir && F:\biocbuild\bbs-3.20-bioc\R\bin\R.exe CMD INSTALL --build --library=biodb.buildbin-libdir biodb_1.14.0.tar.gz StartedAt: 2025-02-04 08:04:09 -0500 (Tue, 04 Feb 2025) EndedAt: 2025-02-04 08:06:09 -0500 (Tue, 04 Feb 2025) EllapsedTime: 119.5 seconds RetCode: 0 Status: OK PackageFile: biodb_1.14.0.zip PackageFileSize: 4.787 MiB