Package: biodb Version: 1.14.0 Command: chmod a+r biodb -R && F:\biocbuild\bbs-3.20-bioc\R\bin\R.exe CMD build --keep-empty-dirs --no-resave-data biodb StartedAt: 2025-02-03 17:47:08 -0500 (Mon, 03 Feb 2025) EndedAt: 2025-02-03 17:50:34 -0500 (Mon, 03 Feb 2025) EllapsedTime: 206.6 seconds RetCode: 0 Status: OK PackageFile: biodb_1.14.0.tar.gz PackageFileSize: 1.81 MiB