Package: biodb Version: 1.14.0 Command: F:\biocbuild\bbs-3.20-bioc\R\bin\R.exe CMD check --no-multiarch --install=check:biodb.install-out.txt --library=F:\biocbuild\bbs-3.20-bioc\R\library --no-vignettes --timings biodb_1.14.0.tar.gz StartedAt: 2025-02-03 23:34:37 -0500 (Mon, 03 Feb 2025) EndedAt: 2025-02-03 23:47:48 -0500 (Mon, 03 Feb 2025) EllapsedTime: 790.9 seconds RetCode: 0 Status: WARNINGS CheckDir: biodb.Rcheck Warnings: 1