Package: biodbChebi Version: 1.12.0 Command: /Library/Frameworks/R.framework/Resources/bin/R CMD build --keep-empty-dirs --no-resave-data biodbChebi StartedAt: 2025-02-03 19:34:20 -0500 (Mon, 03 Feb 2025) EndedAt: 2025-02-03 19:34:45 -0500 (Mon, 03 Feb 2025) EllapsedTime: 25.3 seconds RetCode: 0 Status: OK PackageFile: biodbChebi_1.12.0.tar.gz PackageFileSize: 312.1 KiB