Package: biodbChebi Version: 1.12.0 Command: /Library/Frameworks/R.framework/Resources/bin/R CMD build --keep-empty-dirs --no-resave-data biodbChebi StartedAt: 2025-02-03 17:25:02 -0500 (Mon, 03 Feb 2025) EndedAt: 2025-02-03 17:26:01 -0500 (Mon, 03 Feb 2025) EllapsedTime: 59.1 seconds RetCode: 0 Status: OK PackageFile: biodbChebi_1.12.0.tar.gz PackageFileSize: 312.1 KiB