Package: biodbChebi Version: 1.12.0 Command: /Library/Frameworks/R.framework/Resources/bin/R CMD INSTALL biodbChebi StartedAt: 2025-02-03 16:26:46 -0500 (Mon, 03 Feb 2025) EndedAt: 2025-02-03 16:27:02 -0500 (Mon, 03 Feb 2025) EllapsedTime: 15.6 seconds RetCode: 0 Status: OK