Package: biodbChebi Version: 1.12.0 Command: /home/biocbuild/bbs-3.20-bioc/R/bin/R CMD build --keep-empty-dirs --no-resave-data --md5 biodbChebi StartedAt: 2025-02-03 16:34:31 -0500 (Mon, 03 Feb 2025) EndedAt: 2025-02-03 16:34:44 -0500 (Mon, 03 Feb 2025) EllapsedTime: 13.0 seconds RetCode: 0 Status: OK PackageFile: biodbChebi_1.12.0.tar.gz PackageFileSize: 312.9 KiB