Package: biodbChebi Version: 1.12.0 Command: /home/biocbuild/bbs-3.20-bioc/R/bin/R CMD check --install=check:biodbChebi.install-out.txt --library=/home/biocbuild/bbs-3.20-bioc/R/site-library --timings biodbChebi_1.12.0.tar.gz StartedAt: 2025-02-03 20:27:04 -0500 (Mon, 03 Feb 2025) EndedAt: 2025-02-03 20:28:47 -0500 (Mon, 03 Feb 2025) EllapsedTime: 103.1 seconds RetCode: 0 Status: OK CheckDir: biodbChebi.Rcheck Warnings: 0