Package: biodbChebi Version: 1.12.0 Command: rm -rf biodbChebi.buildbin-libdir && mkdir biodbChebi.buildbin-libdir && F:\biocbuild\bbs-3.20-bioc\R\bin\R.exe CMD INSTALL --build --library=biodbChebi.buildbin-libdir biodbChebi_1.12.0.tar.gz StartedAt: 2025-02-04 08:04:11 -0500 (Tue, 04 Feb 2025) EndedAt: 2025-02-04 08:04:31 -0500 (Tue, 04 Feb 2025) EllapsedTime: 20.1 seconds RetCode: 0 Status: OK PackageFile: biodbChebi_1.12.0.zip PackageFileSize: 409.6 KiB