Package: biodbChebi Version: 1.12.0 Command: chmod a+r biodbChebi -R && F:\biocbuild\bbs-3.20-bioc\R\bin\R.exe CMD build --keep-empty-dirs --no-resave-data biodbChebi StartedAt: 2025-02-03 17:47:10 -0500 (Mon, 03 Feb 2025) EndedAt: 2025-02-03 17:48:00 -0500 (Mon, 03 Feb 2025) EllapsedTime: 50.1 seconds RetCode: 0 Status: OK PackageFile: biodbChebi_1.12.0.tar.gz PackageFileSize: 312.2 KiB