Package: biodbChebi Version: 1.12.0 Command: /home/biocbuild/R/R/bin/R CMD build --keep-empty-dirs --no-resave-data biodbChebi StartedAt: 2025-02-03 22:04:49 -0000 (Mon, 03 Feb 2025) EndedAt: 2025-02-03 22:05:35 -0000 (Mon, 03 Feb 2025) EllapsedTime: 46.0 seconds RetCode: 0 Status: OK PackageFile: biodbChebi_1.12.0.tar.gz PackageFileSize: 378 KiB