Package: biodbExpasy Version: 1.10.0 Command: /Library/Frameworks/R.framework/Resources/bin/R CMD build --keep-empty-dirs --no-resave-data biodbExpasy StartedAt: 2025-02-03 17:25:05 -0500 (Mon, 03 Feb 2025) EndedAt: 2025-02-03 17:25:52 -0500 (Mon, 03 Feb 2025) EllapsedTime: 46.5 seconds RetCode: 0 Status: OK PackageFile: biodbExpasy_1.10.0.tar.gz PackageFileSize: 303.9 KiB