##############################################################################
##############################################################################
###
### Running command:
###
###   /home/biocbuild/bbs-3.20-bioc/R/bin/R CMD INSTALL biodbExpasy
###
##############################################################################
##############################################################################


* installing to library ‘/home/biocbuild/bbs-3.20-bioc/R/site-library’
* installing *source* package ‘biodbExpasy’ ...
** using staged installation
** R
** inst
** byte-compile and prepare package for lazy loading
** help
*** installing help indices
** building package indices
** installing vignettes
** testing if installed package can be loaded from temporary location
Warning in fun(libname, pkgname) :
  Package 'biodbExpasy' is deprecated and will be removed from
  Bioconductor version 3.21
** testing if installed package can be loaded from final location
Warning in fun(libname, pkgname) :
  Package 'biodbExpasy' is deprecated and will be removed from
  Bioconductor version 3.21
** testing if installed package keeps a record of temporary installation path
* DONE (biodbExpasy)