Package: biodbHmdb Version: 1.12.0 Command: rm -rf biodbHmdb.buildbin-libdir && mkdir biodbHmdb.buildbin-libdir && /Users/biocbuild/BBS/utils/build-universal.sh biodbHmdb_1.12.0.tar.gz /Library/Frameworks/R.framework/Resources/bin/R biodbHmdb.buildbin-libdir StartedAt: 2025-02-05 14:59:26 -0500 (Wed, 05 Feb 2025) EndedAt: 2025-02-05 15:00:06 -0500 (Wed, 05 Feb 2025) EllapsedTime: 40.6 seconds RetCode: 0 Status: OK PackageFile: biodbHmdb_1.12.0.tgz PackageFileSize: 670.3 KiB