Package: biodbHmdb Version: 1.12.0 Command: /Library/Frameworks/R.framework/Resources/bin/R CMD check --install=check:biodbHmdb.install-out.txt --library=/Library/Frameworks/R.framework/Resources/library --no-vignettes --timings biodbHmdb_1.12.0.tar.gz StartedAt: 2025-02-04 12:45:41 -0500 (Tue, 04 Feb 2025) EndedAt: 2025-02-04 12:46:49 -0500 (Tue, 04 Feb 2025) EllapsedTime: 68.4 seconds RetCode: 0 Status: WARNINGS CheckDir: biodbHmdb.Rcheck Warnings: 1