Package: biodbHmdb Version: 1.12.0 Command: /Library/Frameworks/R.framework/Resources/bin/R CMD INSTALL biodbHmdb StartedAt: 2025-02-03 17:02:35 -0500 (Mon, 03 Feb 2025) EndedAt: 2025-02-03 17:03:12 -0500 (Mon, 03 Feb 2025) EllapsedTime: 36.2 seconds RetCode: 0 Status: OK