Package: biodbHmdb Version: 1.12.0 Command: rm -rf biodbHmdb.buildbin-libdir && mkdir biodbHmdb.buildbin-libdir && /Users/biocbuild/BBS/utils/build-universal.sh biodbHmdb_1.12.0.tar.gz /Library/Frameworks/R.framework/Resources/bin/R biodbHmdb.buildbin-libdir StartedAt: 2025-02-04 12:32:38 -0500 (Tue, 04 Feb 2025) EndedAt: 2025-02-04 12:34:01 -0500 (Tue, 04 Feb 2025) EllapsedTime: 82.9 seconds RetCode: 0 Status: OK PackageFile: biodbHmdb_1.12.0.tgz PackageFileSize: 695.9 KiB