Package: biodbHmdb Version: 1.12.0 Command: /Library/Frameworks/R.framework/Resources/bin/R CMD build --keep-empty-dirs --no-resave-data biodbHmdb StartedAt: 2025-02-03 17:25:16 -0500 (Mon, 03 Feb 2025) EndedAt: 2025-02-03 17:27:48 -0500 (Mon, 03 Feb 2025) EllapsedTime: 152.1 seconds RetCode: 0 Status: OK PackageFile: biodbHmdb_1.12.0.tar.gz PackageFileSize: 407.4 KiB