Package: biodbHmdb Version: 1.12.0 Command: rm -rf biodbHmdb.buildbin-libdir && mkdir biodbHmdb.buildbin-libdir && F:\biocbuild\bbs-3.20-bioc\R\bin\R.exe CMD INSTALL --build --library=biodbHmdb.buildbin-libdir biodbHmdb_1.12.0.tar.gz StartedAt: 2025-02-04 08:04:15 -0500 (Tue, 04 Feb 2025) EndedAt: 2025-02-04 08:05:07 -0500 (Tue, 04 Feb 2025) EllapsedTime: 52.7 seconds RetCode: 0 Status: OK PackageFile: biodbHmdb_1.12.0.zip PackageFileSize: 982.5 KiB