Package: biodbHmdb Version: 1.12.0 Command: chmod a+r biodbHmdb -R && F:\biocbuild\bbs-3.20-bioc\R\bin\R.exe CMD build --keep-empty-dirs --no-resave-data biodbHmdb StartedAt: 2025-02-03 17:47:20 -0500 (Mon, 03 Feb 2025) EndedAt: 2025-02-03 17:50:55 -0500 (Mon, 03 Feb 2025) EllapsedTime: 214.6 seconds RetCode: 0 Status: OK PackageFile: biodbHmdb_1.12.0.tar.gz PackageFileSize: 407.5 KiB