Package: biodbHmdb Version: 1.12.0 Command: F:\biocbuild\bbs-3.20-bioc\R\bin\R.exe CMD INSTALL biodbHmdb StartedAt: 2025-02-03 16:09:07 -0500 (Mon, 03 Feb 2025) EndedAt: 2025-02-03 16:09:53 -0500 (Mon, 03 Feb 2025) EllapsedTime: 46.3 seconds RetCode: 0 Status: OK