Package: biodbKegg Version: 1.12.0 Command: rm -rf biodbKegg.buildbin-libdir && mkdir biodbKegg.buildbin-libdir && /Users/biocbuild/BBS/utils/build-universal.sh biodbKegg_1.12.0.tar.gz /Library/Frameworks/R.framework/Resources/bin/R biodbKegg.buildbin-libdir StartedAt: 2025-02-05 14:59:26 -0500 (Wed, 05 Feb 2025) EndedAt: 2025-02-05 14:59:45 -0500 (Wed, 05 Feb 2025) EllapsedTime: 19.2 seconds RetCode: 0 Status: OK PackageFile: biodbKegg_1.12.0.tgz PackageFileSize: 1.286 MiB