Package: biodbKegg Version: 1.12.0 Command: /Library/Frameworks/R.framework/Resources/bin/R CMD build --keep-empty-dirs --no-resave-data biodbKegg StartedAt: 2025-02-03 17:25:33 -0500 (Mon, 03 Feb 2025) EndedAt: 2025-02-03 17:27:24 -0500 (Mon, 03 Feb 2025) EllapsedTime: 111.0 seconds RetCode: 0 Status: OK PackageFile: biodbKegg_1.12.0.tar.gz PackageFileSize: 625.7 KiB