Package: biodbKegg Version: 1.12.0 Command: /Library/Frameworks/R.framework/Resources/bin/R CMD check --install=check:biodbKegg.install-out.txt --library=/Library/Frameworks/R.framework/Resources/library --no-vignettes --timings biodbKegg_1.12.0.tar.gz StartedAt: 2025-02-04 00:21:44 -0500 (Tue, 04 Feb 2025) EndedAt: 2025-02-04 00:48:25 -0500 (Tue, 04 Feb 2025) EllapsedTime: 1600.5 seconds RetCode: 1 Status: ERROR CheckDir: biodbKegg.Rcheck Warnings: NA