Package: biodbKegg Version: 1.12.0 Command: rm -rf biodbKegg.buildbin-libdir && mkdir biodbKegg.buildbin-libdir && F:\biocbuild\bbs-3.20-bioc\R\bin\R.exe CMD INSTALL --build --library=biodbKegg.buildbin-libdir biodbKegg_1.12.0.tar.gz StartedAt: 2025-02-04 08:04:16 -0500 (Tue, 04 Feb 2025) EndedAt: 2025-02-04 08:05:00 -0500 (Tue, 04 Feb 2025) EllapsedTime: 43.1 seconds RetCode: 0 Status: OK PackageFile: biodbKegg_1.12.0.zip PackageFileSize: 1.253 MiB