Package: biodbKegg Version: 1.12.0 Command: chmod a+r biodbKegg -R && F:\biocbuild\bbs-3.20-bioc\R\bin\R.exe CMD build --keep-empty-dirs --no-resave-data biodbKegg StartedAt: 2025-02-03 17:47:27 -0500 (Mon, 03 Feb 2025) EndedAt: 2025-02-03 17:50:46 -0500 (Mon, 03 Feb 2025) EllapsedTime: 199.0 seconds RetCode: 0 Status: OK PackageFile: biodbKegg_1.12.0.tar.gz PackageFileSize: 568.1 KiB