Package: biodbKegg Version: 1.12.0 Command: /home/biocbuild/R/R/bin/R CMD build --keep-empty-dirs --no-resave-data biodbKegg StartedAt: 2025-02-03 22:05:35 -0000 (Mon, 03 Feb 2025) EndedAt: 2025-02-03 22:06:30 -0000 (Mon, 03 Feb 2025) EllapsedTime: 55.0 seconds RetCode: 0 Status: OK PackageFile: biodbKegg_1.12.0.tar.gz PackageFileSize: 648 KiB