Package: biodbKegg Version: 1.12.0 Command: /home/biocbuild/R/R/bin/R CMD INSTALL biodbKegg StartedAt: 2025-02-03 21:08:17 -0000 (Mon, 03 Feb 2025) EndedAt: 2025-02-03 21:08:37 -0000 (Mon, 03 Feb 2025) EllapsedTime: 20.4 seconds RetCode: 0 Status: OK