Package: biodbNcbi Version: 1.10.0 Command: rm -rf biodbNcbi.buildbin-libdir && mkdir biodbNcbi.buildbin-libdir && /Users/biocbuild/BBS/utils/build-universal.sh biodbNcbi_1.10.0.tar.gz /Library/Frameworks/R.framework/Resources/bin/R biodbNcbi.buildbin-libdir StartedAt: 2025-02-05 14:59:30 -0500 (Wed, 05 Feb 2025) EndedAt: 2025-02-05 14:59:45 -0500 (Wed, 05 Feb 2025) EllapsedTime: 14.8 seconds RetCode: 0 Status: OK PackageFile: biodbNcbi_1.10.0.tgz PackageFileSize: 1.137 MiB