Package: biodbNcbi Version: 1.10.0 Command: /Library/Frameworks/R.framework/Resources/bin/R CMD build --keep-empty-dirs --no-resave-data biodbNcbi StartedAt: 2025-02-03 19:35:29 -0500 (Mon, 03 Feb 2025) EndedAt: 2025-02-03 19:35:56 -0500 (Mon, 03 Feb 2025) EllapsedTime: 27.2 seconds RetCode: 0 Status: OK PackageFile: biodbNcbi_1.10.0.tar.gz PackageFileSize: 733.4 KiB